Workbook

Sheet Bilan
A1: catégorie | B1: budget prévu | C1: budget réalisé | D1: Ecart
A2: alimentation | B2: 200 | C2: ='Budget réalisé'!I2 -> 0 | D2: =B2-C2 -> 200
A3: transport | B3: 1000 | C3: ='Budget réalisé'!I3 -> 0 | D3: =B3-C3 -> 1000
A4: Hébergement | B4: 300 | C4: ='Budget réalisé'!I4 -> 0 | D4: =B4-C4 -> 300
A5: loisir | B5: 50 | C5: ='Budget réalisé'!I5 -> 0 | D5: =B5-C5 -> 50
A6: cadeaux | B6: 100 | C6: ='Budget réalisé'!I6 -> 0 | D6: =B6-C6 -> 100
A7: souvenirs | B7: 100 | C7: ='Budget réalisé'!I7 -> 0 | D7: =B7-C7 -> 100
A8: autres | B8: 200 | C8: ='Budget réalisé'!I8 -> 0 | D8: =B8-C8 -> 200

Sheet Budget réalisé
A1: catégorie | B1: Lundi | C1: Mardi | D1: Mercredi | E1: Jeudi | F1: Vendredi | G1: Samedi | H1: Dimanche | I1: Totaux
A2: alimentation | B2: =lundi!$C31 -> 0 | C2: =mardi!$C31 -> 0 | D2: =mercredi!$C31 -> 0 | E2: =jeudi!$C31 -> 0 | F2: =vendredi!$C31 -> 0 | G2: =samedi!$C31 -> 0 | H2: =dimanche!$C31 -> 0 | I2: =SUM(B2:H2) -> 0
A3: transport | B3: =lundi!$C32 -> 0 | C3: =mardi!$C32 -> 0 | D3: =mercredi!$C32 -> 0 | E3: =jeudi!$C32 -> 0 | F3: =vendredi!$C32 -> 0 | G3: =samedi!$C32 -> 0 | H3: =dimanche!$C32 -> 0 | I3: =SUM(B3:H3) -> 0
A4: Hébergement | B4: =lundi!$C33 -> 0 | C4: =mardi!$C33 -> 0 | D4: =mercredi!$C33 -> 0 | E4: =jeudi!$C33 -> 0 | F4: =vendredi!$C33 -> 0 | G4: =samedi!$C33 -> 0 | H4: =dimanche!$C33 -> 0 | I4: =SUM(B4:H4) -> 0
A5: loisir | B5: =lundi!$C34 -> 0 | C5: =mardi!$C34 -> 0 | D5: =mercredi!$C34 -> 0 | E5: =jeudi!$C34 -> 0 | F5: =vendredi!$C34 -> 0 | G5: =samedi!$C34 -> 0 | H5: =dimanche!$C34 -> 0 | I5: =SUM(B5:H5) -> 0
A6: cadeaux | B6: =lundi!$C35 -> 0 | C6: =mardi!$C35 -> 0 | D6: =mercredi!$C35 -> 0 | E6: =jeudi!$C35 -> 0 | F6: =vendredi!$C35 -> 0 | G6: =samedi!$C35 -> 0 | H6: =dimanche!$C35 -> 0 | I6: =SUM(B6:H6) -> 0
A7: souvenirs | B7: =lundi!$C36 -> 0 | C7: =mardi!$C36 -> 0 | D7: =mercredi!$C36 -> 0 | E7: =jeudi!$C36 -> 0 | F7: =vendredi!$C36 -> 0 | G7: =samedi!$C36 -> 0 | H7: =dimanche!$C36 -> 0 | I7: =SUM(B7:H7) -> 0
A8: autres | B8: =lundi!$C37 -> 0 | C8: =mardi!$C37 -> 0 | D8: =mercredi!$C37 -> 0 | E8: =jeudi!$C37 -> 0 | F8: =vendredi!$C37 -> 0 | G8: =samedi!$C37 -> 0 | H8: =dimanche!$C37 -> 0 | I8: =SUM(B8:H8) -> 0

Sheet lundi
A1: Libellé de la dépense | B1: catégorie | C1: montant
B31: alimentation | C31: =SUMIF(B$2:B$30,B31,C$2:C$30) -> 0 | E31: =SUMIF(B$2:B$30,B31,C$2:C$30) -> 0
B32: transport | C32: =SUMIF(B$2:B$30,B32,C$2:C$30) -> 0
B33: Hébergement | C33: =SUMIF(B$2:B$30,B33,C$2:C$30) -> 0
B34: loisir | C34: =SUMIF(B$2:B$30,B34,C$2:C$30) -> 0
B35: cadeaux | C35: =SUMIF(B$2:B$30,B35,C$2:C$30) -> 0
B36: souvenirs | C36: =SUMIF(B$2:B$30,B36,C$2:C$30) -> 0
B37: autres | C37: =SUMIF(B$2:B$30,B37,C$2:C$30) -> 0

Sheet mardi
A1: Libellé de la dépense | B1: catégorie | C1: montant
B31: alimentation | C31: =SUMIF(B$2:B$30,B31,C$2:C$30) -> 0
B32: transport | C32: =SUMIF(B$2:B$30,B32,C$2:C$30) -> 0
B33: Hébergement | C33: =SUMIF(B$2:B$30,B33,C$2:C$30) -> 0
B34: loisir | C34: =SUMIF(B$2:B$30,B34,C$2:C$30) -> 0
B35: cadeaux | C35: =SUMIF(B$2:B$30,B35,C$2:C$30) -> 0
B36: souvenirs | C36: =SUMIF(B$2:B$30,B36,C$2:C$30) -> 0
B37: autres | C37: =SUMIF(B$2:B$30,B37,C$2:C$30) -> 0

Sheet mercredi
A1: Libellé de la dépense | B1: catégorie | C1: montant
B31: alimentation | C31: =SUMIF(B$2:B$30,B31,C$2:C$30) -> 0
B32: transport | C32: =SUMIF(B$2:B$30,B32,C$2:C$30) -> 0
B33: Hébergement | C33: =SUMIF(B$2:B$30,B33,C$2:C$30) -> 0
B34: loisir | C34: =SUMIF(B$2:B$30,B34,C$2:C$30) -> 0
B35: cadeaux | C35: =SUMIF(B$2:B$30,B35,C$2:C$30) -> 0
B36: souvenirs | C36: =SUMIF(B$2:B$30,B36,C$2:C$30) -> 0
B37: autres | C37: =SUMIF(B$2:B$30,B37,C$2:C$30) -> 0

Sheet jeudi
A1: Libellé de la dépense | B1: catégorie | C1: montant
B31: alimentation | C31: =SUMIF(B$2:B$30,B31,C$2:C$30) -> 0
B32: transport | C32: =SUMIF(B$2:B$30,B32,C$2:C$30) -> 0
B33: Hébergement | C33: =SUMIF(B$2:B$30,B33,C$2:C$30) -> 0
B34: loisir | C34: =SUMIF(B$2:B$30,B34,C$2:C$30) -> 0
B35: cadeaux | C35: =SUMIF(B$2:B$30,B35,C$2:C$30) -> 0
B36: souvenirs | C36: =SUMIF(B$2:B$30,B36,C$2:C$30) -> 0
B37: autres | C37: =SUMIF(B$2:B$30,B37,C$2:C$30) -> 0

Sheet vendredi
A1: Libellé de la dépense | B1: catégorie | C1: montant
B31: alimentation | C31: =SUMIF(B$2:B$30,B31,C$2:C$30) -> 0
B32: transport | C32: =SUMIF(B$2:B$30,B32,C$2:C$30) -> 0
B33: Hébergement | C33: =SUMIF(B$2:B$30,B33,C$2:C$30) -> 0
B34: loisir | C34: =SUMIF(B$2:B$30,B34,C$2:C$30) -> 0
B35: cadeaux | C35: =SUMIF(B$2:B$30,B35,C$2:C$30) -> 0
B36: souvenirs | C36: =SUMIF(B$2:B$30,B36,C$2:C$30) -> 0
B37: autres | C37: =SUMIF(B$2:B$30,B37,C$2:C$30) -> 0

Sheet samedi
A1: Libellé de la dépense | B1: catégorie | C1: montant
B31: alimentation | C31: =SUMIF(B$2:B$30,B31,C$2:C$30) -> 0
B32: transport | C32: =SUMIF(B$2:B$30,B32,C$2:C$30) -> 0
B33: Hébergement | C33: =SUMIF(B$2:B$30,B33,C$2:C$30) -> 0
B34: loisir | C34: =SUMIF(B$2:B$30,B34,C$2:C$30) -> 0
B35: cadeaux | C35: =SUMIF(B$2:B$30,B35,C$2:C$30) -> 0
B36: souvenirs | C36: =SUMIF(B$2:B$30,B36,C$2:C$30) -> 0
B37: autres | C37: =SUMIF(B$2:B$30,B37,C$2:C$30) -> 0

Sheet dimanche
A1: Libellé de la dépense | B1: catégorie | C1: montant
B31: alimentation | C31: =SUMIF(B$2:B$30,B31,C$2:C$30) -> 0
B32: transport | C32: =SUMIF(B$2:B$30,B32,C$2:C$30) -> 0
B33: Hébergement | C33: =SUMIF(B$2:B$30,B33,C$2:C$30) -> 0
B34: loisir | C34: =SUMIF(B$2:B$30,B34,C$2:C$30) -> 0
B35: cadeaux | C35: =SUMIF(B$2:B$30,B35,C$2:C$30) -> 0
B36: souvenirs | C36: =SUMIF(B$2:B$30,B36,C$2:C$30) -> 0
B37: autres | C37: =SUMIF(B$2:B$30,B37,C$2:C$30) -> 0

Sheet Catégories
A1: Catégories | B1: Sous-catégorie
A2: alimentation | B2: épicerie
A3: transport | B3: carburant
A4: Hébergement | B4: hotel
A5: loisir | B5: visites
A6: cadeaux
A7: souvenirs
A8: autres
